BEGIN:VCALENDAR
VERSION:2.0
PRODID:-//Realty ONE Group Eminence - ECPv6.15.11//NONSGML v1.0//EN
CALSCALE:GREGORIAN
METHOD:PUBLISH
X-ORIGINAL-URL:https://joinonetowin.com
X-WR-CALDESC:Events for Realty ONE Group Eminence
REFRESH-INTERVAL;VALUE=DURATION:PT1H
X-Robots-Tag:noindex
X-PUBLISHED-TTL:PT1H
BEGIN:VTIMEZONE
TZID:America/Los_Angeles
BEGIN:DAYLIGHT
TZOFFSETFROM:-0800
TZOFFSETTO:-0700
TZNAME:PDT
DTSTART:20210314T100000
END:DAYLIGHT
BEGIN:STANDARD
TZOFFSETFROM:-0700
TZOFFSETTO:-0800
TZNAME:PST
DTSTART:20211107T090000
END:STANDARD
BEGIN:DAYLIGHT
TZOFFSETFROM:-0800
TZOFFSETTO:-0700
TZNAME:PDT
DTSTART:20220313T100000
END:DAYLIGHT
BEGIN:STANDARD
TZOFFSETFROM:-0700
TZOFFSETTO:-0800
TZNAME:PST
DTSTART:20221106T090000
END:STANDARD
BEGIN:DAYLIGHT
TZOFFSETFROM:-0800
TZOFFSETTO:-0700
TZNAME:PDT
DTSTART:20230312T100000
END:DAYLIGHT
BEGIN:STANDARD
TZOFFSETFROM:-0700
TZOFFSETTO:-0800
TZNAME:PST
DTSTART:20231105T090000
END:STANDARD
END:VTIMEZONE
BEGIN:VEVENT
DTSTART;TZID=America/Los_Angeles:20220825T130000
DTEND;TZID=America/Los_Angeles:20220825T150000
DTSTAMP:20260423T144739
CREATED:20220706T225453Z
LAST-MODIFIED:20220706T225453Z
UID:4048-1661432400-1661439600@joinonetowin.com
SUMMARY:All NEW RevUp Mentor Program
DESCRIPTION:Module 12 – Close the Sale and Creating Clients for Life\nALL NEW RevUp Mentor program! \nJoin Instructor / Managing Broker / Team Lead Allison Arevalo Tuesdays & Thursdays from 1:00pm – 3:00 P.M. in the Realty ONE Group Eminence Training Room. If you are interested in joining please see Allison before attending.
URL:https://joinonetowin.com/event/all-new-revup-mentor-program-11/
END:VEVENT
END:VCALENDAR