BEGIN:VCALENDAR
VERSION:2.0
PRODID:-//Realty ONE Group Eminence - ECPv6.15.11//NONSGML v1.0//EN
CALSCALE:GREGORIAN
METHOD:PUBLISH
X-WR-CALNAME:Realty ONE Group Eminence
X-ORIGINAL-URL:https://joinonetowin.com
X-WR-CALDESC:Events for Realty ONE Group Eminence
REFRESH-INTERVAL;VALUE=DURATION:PT1H
X-Robots-Tag:noindex
X-PUBLISHED-TTL:PT1H
BEGIN:VTIMEZONE
TZID:America/Los_Angeles
BEGIN:DAYLIGHT
TZOFFSETFROM:-0800
TZOFFSETTO:-0700
TZNAME:PDT
DTSTART:20210314T100000
END:DAYLIGHT
BEGIN:STANDARD
TZOFFSETFROM:-0700
TZOFFSETTO:-0800
TZNAME:PST
DTSTART:20211107T090000
END:STANDARD
BEGIN:DAYLIGHT
TZOFFSETFROM:-0800
TZOFFSETTO:-0700
TZNAME:PDT
DTSTART:20220313T100000
END:DAYLIGHT
BEGIN:STANDARD
TZOFFSETFROM:-0700
TZOFFSETTO:-0800
TZNAME:PST
DTSTART:20221106T090000
END:STANDARD
BEGIN:DAYLIGHT
TZOFFSETFROM:-0800
TZOFFSETTO:-0700
TZNAME:PDT
DTSTART:20230312T100000
END:DAYLIGHT
BEGIN:STANDARD
TZOFFSETFROM:-0700
TZOFFSETTO:-0800
TZNAME:PST
DTSTART:20231105T090000
END:STANDARD
END:VTIMEZONE
BEGIN:VEVENT
DTSTART;TZID=America/Los_Angeles:20220921T100000
DTEND;TZID=America/Los_Angeles:20220921T110000
DTSTAMP:20260423T084603
CREATED:20220818T045733Z
LAST-MODIFIED:20220818T045733Z
UID:4266-1663754400-1663758000@joinonetowin.com
SUMMARY:Gathering of Greatness
DESCRIPTION:Gathering of Greatness! We would love to see all of you on the third Wednesday of every month to discuss the latest events\, upcoming changes and so much more! We will have Team ONE Home loans as well to discuss all the lending tools you have access to and what is currently happening in the market! See you there! 💛🖤💛🖤
URL:https://joinonetowin.com/event/gathering-of-greatness-3/
END:VEVENT
BEGIN:VEVENT
DTSTART;TZID=America/Los_Angeles:20220921T130000
DTEND;TZID=America/Los_Angeles:20220921T140000
DTSTAMP:20260423T084603
CREATED:20220914T212903Z
LAST-MODIFIED:20220921T051928Z
UID:4428-1663765200-1663768800@joinonetowin.com
SUMMARY:Compliance with Contracts - CANCELED
DESCRIPTION:We will be reviewing the following forms to ensure you understand how and why to fill out all necessary information while representing your Clients: \n\nSeller Real Property Disclosure\nNNRMLS Listing Input form\nExclusive Right to Sell
URL:https://joinonetowin.com/event/compliance-with-contracts/
END:VEVENT
END:VCALENDAR