BEGIN:VCALENDAR
VERSION:2.0
PRODID:-//Realty ONE Group Eminence - ECPv6.15.11//NONSGML v1.0//EN
CALSCALE:GREGORIAN
METHOD:PUBLISH
X-ORIGINAL-URL:https://joinonetowin.com
X-WR-CALDESC:Events for Realty ONE Group Eminence
REFRESH-INTERVAL;VALUE=DURATION:PT1H
X-Robots-Tag:noindex
X-PUBLISHED-TTL:PT1H
BEGIN:VTIMEZONE
TZID:America/Los_Angeles
BEGIN:DAYLIGHT
TZOFFSETFROM:-0800
TZOFFSETTO:-0700
TZNAME:PDT
DTSTART:20210314T100000
END:DAYLIGHT
BEGIN:STANDARD
TZOFFSETFROM:-0700
TZOFFSETTO:-0800
TZNAME:PST
DTSTART:20211107T090000
END:STANDARD
BEGIN:DAYLIGHT
TZOFFSETFROM:-0800
TZOFFSETTO:-0700
TZNAME:PDT
DTSTART:20220313T100000
END:DAYLIGHT
BEGIN:STANDARD
TZOFFSETFROM:-0700
TZOFFSETTO:-0800
TZNAME:PST
DTSTART:20221106T090000
END:STANDARD
BEGIN:DAYLIGHT
TZOFFSETFROM:-0800
TZOFFSETTO:-0700
TZNAME:PDT
DTSTART:20230312T100000
END:DAYLIGHT
BEGIN:STANDARD
TZOFFSETFROM:-0700
TZOFFSETTO:-0800
TZNAME:PST
DTSTART:20231105T090000
END:STANDARD
END:VTIMEZONE
BEGIN:VEVENT
DTSTART;TZID=America/Los_Angeles:20221018T130000
DTEND;TZID=America/Los_Angeles:20221018T150000
DTSTAMP:20260421T100012
CREATED:20220901T222315Z
LAST-MODIFIED:20221112T210057Z
UID:4319-1666098000-1666105200@joinonetowin.com
SUMMARY:REV UP - POWER WITH FOCUS
DESCRIPTION:It’s a tough business but with these tools you can scale your busines to any level no matter how long you have been in the business! This is open to all agents\, please RSVP so I can send you the handouts prior to the lesson! \n \n  \n  \n 
URL:https://joinonetowin.com/event/rev-up-power-with-focus/
END:VEVENT
END:VCALENDAR