BEGIN:VCALENDAR
VERSION:2.0
PRODID:-//Realty ONE Group Eminence - ECPv6.15.11//NONSGML v1.0//EN
CALSCALE:GREGORIAN
METHOD:PUBLISH
X-ORIGINAL-URL:https://joinonetowin.com
X-WR-CALDESC:Events for Realty ONE Group Eminence
REFRESH-INTERVAL;VALUE=DURATION:PT1H
X-Robots-Tag:noindex
X-PUBLISHED-TTL:PT1H
BEGIN:VTIMEZONE
TZID:America/Los_Angeles
BEGIN:DAYLIGHT
TZOFFSETFROM:-0800
TZOFFSETTO:-0700
TZNAME:PDT
DTSTART:20210314T100000
END:DAYLIGHT
BEGIN:STANDARD
TZOFFSETFROM:-0700
TZOFFSETTO:-0800
TZNAME:PST
DTSTART:20211107T090000
END:STANDARD
BEGIN:DAYLIGHT
TZOFFSETFROM:-0800
TZOFFSETTO:-0700
TZNAME:PDT
DTSTART:20220313T100000
END:DAYLIGHT
BEGIN:STANDARD
TZOFFSETFROM:-0700
TZOFFSETTO:-0800
TZNAME:PST
DTSTART:20221106T090000
END:STANDARD
BEGIN:DAYLIGHT
TZOFFSETFROM:-0800
TZOFFSETTO:-0700
TZNAME:PDT
DTSTART:20230312T100000
END:DAYLIGHT
BEGIN:STANDARD
TZOFFSETFROM:-0700
TZOFFSETTO:-0800
TZNAME:PST
DTSTART:20231105T090000
END:STANDARD
END:VTIMEZONE
BEGIN:VEVENT
DTSTART;TZID=America/Los_Angeles:20221025T100000
DTEND;TZID=America/Los_Angeles:20221025T110000
DTSTAMP:20260421T100013
CREATED:20221011T191057Z
LAST-MODIFIED:20221011T191058Z
UID:4577-1666692000-1666695600@joinonetowin.com
SUMMARY:ONE U TRAINING
DESCRIPTION:THIS IS A CORPORATE TRAINING VIA ZOOM\, CLICK THE LINK BELOW FOR REGISTRATION \nhttps://realtyonegroup.zoom.us/webinar/register/WN_xXBASy0XREWnFHorp01x0Q
URL:https://joinonetowin.com/event/one-u-training/
END:VEVENT
BEGIN:VEVENT
DTSTART;TZID=America/Los_Angeles:20221025T110000
DTEND;TZID=America/Los_Angeles:20221025T120000
DTSTAMP:20260421T100013
CREATED:20221010T171733Z
LAST-MODIFIED:20221010T171940Z
UID:4500-1666695600-1666699200@joinonetowin.com
SUMMARY:NEW ROCK STAR ORIENTATION
DESCRIPTION:Success starts HERE! New Realty One Group agent orientation in the training room. \nAttendance is invite only
URL:https://joinonetowin.com/event/new-rock-star-orientation-4/
END:VEVENT
BEGIN:VEVENT
DTSTART;TZID=America/Los_Angeles:20221025T130000
DTEND;TZID=America/Los_Angeles:20221025T150000
DTSTAMP:20260421T100013
CREATED:20220901T222458Z
LAST-MODIFIED:20221112T210151Z
UID:4339-1666702800-1666710000@joinonetowin.com
SUMMARY:REV UP - EXPAND YOUR BUSINESS THROUGH EMPOWERMENT
DESCRIPTION:Empowerment with knowledge is the best way to go! Learn on Farming\, Marketing and Prospecting to scale your business. There are many ways to do Real Estate\, Learn the top ways to scale your business faster and sustainable through this lesson. This is open to all agents please RSVP for any handouts prior to class. \n \n 
URL:https://joinonetowin.com/event/rev-up-expand-your-business-through-empowerment/
END:VEVENT
END:VCALENDAR