BEGIN:VCALENDAR
VERSION:2.0
PRODID:-//Realty ONE Group Eminence - ECPv6.15.11//NONSGML v1.0//EN
CALSCALE:GREGORIAN
METHOD:PUBLISH
X-ORIGINAL-URL:https://joinonetowin.com
X-WR-CALDESC:Events for Realty ONE Group Eminence
REFRESH-INTERVAL;VALUE=DURATION:PT1H
X-Robots-Tag:noindex
X-PUBLISHED-TTL:PT1H
BEGIN:VTIMEZONE
TZID:America/Los_Angeles
BEGIN:DAYLIGHT
TZOFFSETFROM:-0800
TZOFFSETTO:-0700
TZNAME:PDT
DTSTART:20210314T100000
END:DAYLIGHT
BEGIN:STANDARD
TZOFFSETFROM:-0700
TZOFFSETTO:-0800
TZNAME:PST
DTSTART:20211107T090000
END:STANDARD
BEGIN:DAYLIGHT
TZOFFSETFROM:-0800
TZOFFSETTO:-0700
TZNAME:PDT
DTSTART:20220313T100000
END:DAYLIGHT
BEGIN:STANDARD
TZOFFSETFROM:-0700
TZOFFSETTO:-0800
TZNAME:PST
DTSTART:20221106T090000
END:STANDARD
BEGIN:DAYLIGHT
TZOFFSETFROM:-0800
TZOFFSETTO:-0700
TZNAME:PDT
DTSTART:20230312T100000
END:DAYLIGHT
BEGIN:STANDARD
TZOFFSETFROM:-0700
TZOFFSETTO:-0800
TZNAME:PST
DTSTART:20231105T090000
END:STANDARD
END:VTIMEZONE
BEGIN:VEVENT
DTSTART;TZID=America/Los_Angeles:20221029T180000
DTEND;TZID=America/Los_Angeles:20221029T200000
DTSTAMP:20260421T095908
CREATED:20220826T174749Z
LAST-MODIFIED:20220901T194442Z
UID:4301-1667066400-1667073600@joinonetowin.com
SUMMARY:2nd Annual Trunk or Treat
DESCRIPTION:This will be our Annual Trunk or Treat! Sign up here to reserve a spot. Last year we have over 300 Kids come through and a ton of fun\, be prepared to hand out a ton of candy! See Allison or Heather for any questions.
URL:https://joinonetowin.com/event/2nd-annual-trunk-or-treat/
END:VEVENT
END:VCALENDAR