BEGIN:VCALENDAR
VERSION:2.0
PRODID:-//Realty ONE Group Eminence - ECPv6.15.11//NONSGML v1.0//EN
CALSCALE:GREGORIAN
METHOD:PUBLISH
X-WR-CALNAME:Realty ONE Group Eminence
X-ORIGINAL-URL:https://joinonetowin.com
X-WR-CALDESC:Events for Realty ONE Group Eminence
REFRESH-INTERVAL;VALUE=DURATION:PT1H
X-Robots-Tag:noindex
X-PUBLISHED-TTL:PT1H
BEGIN:VTIMEZONE
TZID:America/Los_Angeles
BEGIN:DAYLIGHT
TZOFFSETFROM:-0800
TZOFFSETTO:-0700
TZNAME:PDT
DTSTART:20210314T100000
END:DAYLIGHT
BEGIN:STANDARD
TZOFFSETFROM:-0700
TZOFFSETTO:-0800
TZNAME:PST
DTSTART:20211107T090000
END:STANDARD
BEGIN:DAYLIGHT
TZOFFSETFROM:-0800
TZOFFSETTO:-0700
TZNAME:PDT
DTSTART:20220313T100000
END:DAYLIGHT
BEGIN:STANDARD
TZOFFSETFROM:-0700
TZOFFSETTO:-0800
TZNAME:PST
DTSTART:20221106T090000
END:STANDARD
BEGIN:DAYLIGHT
TZOFFSETFROM:-0800
TZOFFSETTO:-0700
TZNAME:PDT
DTSTART:20230312T100000
END:DAYLIGHT
BEGIN:STANDARD
TZOFFSETFROM:-0700
TZOFFSETTO:-0800
TZNAME:PST
DTSTART:20231105T090000
END:STANDARD
END:VTIMEZONE
BEGIN:VEVENT
DTSTART;TZID=America/Los_Angeles:20220421T100000
DTEND;TZID=America/Los_Angeles:20220421T110000
DTSTAMP:20260421T101325
CREATED:20220218T221059Z
LAST-MODIFIED:20220329T223315Z
UID:3113-1650535200-1650538800@joinonetowin.com
SUMMARY:Paragon Class
DESCRIPTION:Come join Lee Stevens for a review of the desktop version of Paragon. \nBring your questions for this open discussion class regarding the Paragon website and be ready to learn tips and tricks. Paragon is an application Realtors should be using regularly to help your clients and your business run smoother.
URL:https://joinonetowin.com/event/paragon-class/
LOCATION:Realty One Group Eminence\, 5325 Reno Corporate Dr #100\, Reno\, NV\, 89511\, United States
CATEGORIES:Class,In Person,Open Discussion Meeting
ORGANIZER;CN="Lee Stevens":MAILTO:Lee.Stevens@upgradeyourlives.com
END:VEVENT
BEGIN:VEVENT
DTSTART;TZID=America/Los_Angeles:20220414T130000
DTEND;TZID=America/Los_Angeles:20220414T140000
DTSTAMP:20260421T101325
CREATED:20220323T164109Z
LAST-MODIFIED:20220414T183040Z
UID:3197-1649941200-1649944800@joinonetowin.com
SUMMARY:Skyslope Class
DESCRIPTION:Join Jen Garza for a class reviewing the Skyslope program and compliance requirements to help you close out your file on time. \n\nInput Listing Information\nStart a new buyers transaction\nBasic tools\n\nSplit Documents\nUpload and assign\n\n\n\n 
URL:https://joinonetowin.com/event/skyslope-class-3/
LOCATION:Realty One Group Eminence\, 5325 Reno Corporate Dr #100\, Reno\, NV\, 89511\, United States
CATEGORIES:Class,In Person
ORGANIZER;CN="Jen Garza":MAILTO:jengarza@rogeminence.com
END:VEVENT
BEGIN:VEVENT
DTSTART;TZID=America/Los_Angeles:20220414T100000
DTEND;TZID=America/Los_Angeles:20220414T110000
DTSTAMP:20260421T101325
CREATED:20220218T220708Z
LAST-MODIFIED:20220329T221044Z
UID:3110-1649930400-1649934000@joinonetowin.com
SUMMARY:Becoming a Modern Agent!
DESCRIPTION:Join Lee Stevens to learn how to grow your business with video and social technology tools. He will be covering the following: \n\nSocial Media optimization checklist\nSocial Media calendar\nHow to utilize Instagram/Facebook for your business\nTake advantage of the social media tools available at your fingertips
URL:https://joinonetowin.com/event/grow-your-business-with-video/
LOCATION:Realty One Group Eminence\, 5325 Reno Corporate Dr #100\, Reno\, NV\, 89511\, United States
CATEGORIES:Class,In Person
ORGANIZER;CN="Lee Stevens":MAILTO:Lee.Stevens@upgradeyourlives.com
END:VEVENT
BEGIN:VEVENT
DTSTART;TZID=America/Los_Angeles:20220413T140000
DTEND;TZID=America/Los_Angeles:20220413T150000
DTSTAMP:20260421T101325
CREATED:20211230T010813Z
LAST-MODIFIED:20220408T200745Z
UID:2768-1649858400-1649862000@joinonetowin.com
SUMMARY:Lunch & Learn - Net Sheets & Buyer Cost Sheets – How to do one
DESCRIPTION:Come join this lunch and learn meeting with Ticor Title to discuss Net Sheets & Buyer Cost Sheets – How to do one. \n\nCustomized net sheets for sellers\nCustomized cost sheets for buyers\n\nPlease RSVP below \n \n 
URL:https://joinonetowin.com/event/lunch-learn-net-sheets-buyer-cost-sheets-how-to-do-one/
LOCATION:Realty One Group Eminence\, 5325 Reno Corporate Dr #100\, Reno\, NV\, 89511\, United States
CATEGORIES:Class,In Person,RSVP Required
ORGANIZER;CN="Ticor Title":MAILTO:eschiller@ticortitle.com
END:VEVENT
END:VCALENDAR